BEGIN:VCALENDAR
VERSION:2.0
PRODID:-//Oberschule Elstra - ECPv6.15.20//NONSGML v1.0//EN
CALSCALE:GREGORIAN
METHOD:PUBLISH
X-WR-CALNAME:Oberschule Elstra
X-ORIGINAL-URL:https://www.os-elstra.de
X-WR-CALDESC:Veranstaltungen für Oberschule Elstra
REFRESH-INTERVAL;VALUE=DURATION:PT1H
X-Robots-Tag:noindex
X-PUBLISHED-TTL:PT1H
BEGIN:VTIMEZONE
TZID:Europe/Berlin
BEGIN:DAYLIGHT
TZOFFSETFROM:+0100
TZOFFSETTO:+0200
TZNAME:CEST
DTSTART:20250330T010000
END:DAYLIGHT
BEGIN:STANDARD
TZOFFSETFROM:+0200
TZOFFSETTO:+0100
TZNAME:CET
DTSTART:20251026T010000
END:STANDARD
BEGIN:DAYLIGHT
TZOFFSETFROM:+0100
TZOFFSETTO:+0200
TZNAME:CEST
DTSTART:20260329T010000
END:DAYLIGHT
BEGIN:STANDARD
TZOFFSETFROM:+0200
TZOFFSETTO:+0100
TZNAME:CET
DTSTART:20261025T010000
END:STANDARD
BEGIN:DAYLIGHT
TZOFFSETFROM:+0100
TZOFFSETTO:+0200
TZNAME:CEST
DTSTART:20270328T010000
END:DAYLIGHT
BEGIN:STANDARD
TZOFFSETFROM:+0200
TZOFFSETTO:+0100
TZNAME:CET
DTSTART:20271031T010000
END:STANDARD
END:VTIMEZONE
BEGIN:VEVENT
DTSTART;VALUE=DATE:20260518
DTEND;VALUE=DATE:20260604
DTSTAMP:20260421T193743
CREATED:20260101T210532Z
LAST-MODIFIED:20260101T210712Z
UID:8151-1779062400-1780531199@www.os-elstra.de
SUMMARY:Konsultationen zu den mündlichen Prüfungen
DESCRIPTION:Im Zeitraum 18.05. bis 3.06. finden die Konsultationen zu den mündlichen Prüfungen statt. Die genauen Konsultationstermine werden über Lernsax kommuniziert.
URL:https://www.os-elstra.de/veranstaltung/konsultationen-zu-den-muendlichen-pruefungen/
CATEGORIES:Schülerveranstaltungen
END:VEVENT
BEGIN:VEVENT
DTSTART;VALUE=DATE:20260601
DTEND;VALUE=DATE:20260602
DTSTAMP:20260421T193743
CREATED:20260101T211209Z
LAST-MODIFIED:20260101T211227Z
UID:8155-1780272000-1780358399@www.os-elstra.de
SUMMARY:Bekanntgabe der Ergebnisse der schriftlichen Prüfungen.
DESCRIPTION:Am 01.06. erhaltet ihr die Ergebnisse eurer schriftlichen Prüfungen in Deutsch\, Englisch\, Mathematik und in der gewählten Naturwissenschaft. Weitere Infos erhaltet ihr über Lernsax.
URL:https://www.os-elstra.de/veranstaltung/bekanntgabe-der-ergebnisse-der-schriftlichen-pruefungen/
CATEGORIES:Schülerveranstaltungen
END:VEVENT
BEGIN:VEVENT
DTSTART;VALUE=DATE:20260603
DTEND;VALUE=DATE:20260604
DTSTAMP:20260421T193743
CREATED:20260101T211340Z
LAST-MODIFIED:20260101T211612Z
UID:8158-1780444800-1780531199@www.os-elstra.de
SUMMARY:Bekanntgabe der Termine für die mündlichen Prüfungen
DESCRIPTION:Die entsprechenden Informationen erhaltet ihr über Lernsax.
URL:https://www.os-elstra.de/veranstaltung/bekanntgabe-der-termine-fuer-die-muendlichen-pruefungen/
CATEGORIES:Schülerveranstaltungen
END:VEVENT
BEGIN:VEVENT
DTSTART;VALUE=DATE:20260604
DTEND;VALUE=DATE:20260620
DTSTAMP:20260421T193743
CREATED:20260101T214036Z
LAST-MODIFIED:20260101T214219Z
UID:8184-1780531200-1781913599@www.os-elstra.de
SUMMARY:Mündliche Prüfungen in den selbstgewählten Fächern
DESCRIPTION:Die genauen Prüfungstermine der einzelnen Schülerinnen und Schüler werden über Lernsax kommuniziert.
URL:https://www.os-elstra.de/veranstaltung/muendliche-pruefungen-in-den-selbstgewaehlten-faechern/
CATEGORIES:Schülerveranstaltungen
END:VEVENT
BEGIN:VEVENT
DTSTART;VALUE=DATE:20260615
DTEND;VALUE=DATE:20260620
DTSTAMP:20260421T193743
CREATED:20260101T211435Z
LAST-MODIFIED:20260101T211506Z
UID:8160-1781481600-1781913599@www.os-elstra.de
SUMMARY:Betriebspraktikum der Klassen 8
DESCRIPTION:
URL:https://www.os-elstra.de/veranstaltung/betriebspraktikum-klasse-8/
CATEGORIES:Schülerveranstaltungen
END:VEVENT
BEGIN:VEVENT
DTSTART;VALUE=DATE:20260622
DTEND;VALUE=DATE:20260627
DTSTAMP:20260421T193743
CREATED:20260101T211549Z
LAST-MODIFIED:20260101T211549Z
UID:8163-1782086400-1782518399@www.os-elstra.de
SUMMARY:Schwimmlager der Klassen 5
DESCRIPTION:
URL:https://www.os-elstra.de/veranstaltung/schwimmlager-der-klassen-5-2/
CATEGORIES:Schülerveranstaltungen
END:VEVENT
BEGIN:VEVENT
DTSTART;TZID=Europe/Berlin:20260626T160000
DTEND;TZID=Europe/Berlin:20260626T190000
DTSTAMP:20260421T193743
CREATED:20260101T213730Z
LAST-MODIFIED:20260101T213759Z
UID:8180-1782489600-1782500400@www.os-elstra.de
SUMMARY:Schulentlassungsfeier
DESCRIPTION:Feierlich und auch ein wenig wehmütig verabschieden wir heute die Schulabgänger des Schuljahres 25/26.
URL:https://www.os-elstra.de/veranstaltung/schulentlassungsfeier/
CATEGORIES:Schülerveranstaltungen
END:VEVENT
BEGIN:VEVENT
DTSTART;VALUE=DATE:20260629
DTEND;VALUE=DATE:20260701
DTSTAMP:20260421T193743
CREATED:20260101T211643Z
LAST-MODIFIED:20260101T213226Z
UID:8166-1782691200-1782863999@www.os-elstra.de
SUMMARY:Schwimmlager der Klassen 6
DESCRIPTION:
URL:https://www.os-elstra.de/veranstaltung/schwimmlager-der-klassen-6/
CATEGORIES:Schülerveranstaltungen
END:VEVENT
BEGIN:VEVENT
DTSTART;VALUE=DATE:20260630
DTEND;VALUE=DATE:20260701
DTSTAMP:20260421T193743
CREATED:20260101T211951Z
LAST-MODIFIED:20260101T212018Z
UID:8168-1782777600-1782863999@www.os-elstra.de
SUMMARY:"genial sozial"
DESCRIPTION:Auch in diesem Jahr beteiligen wir uns an Genial Sozial und bieten damit den Schülerinnen und Schülern eine weitere Möglichkeit\, in ein potentielles Berufsfeld zu schnuppern und dabei Geld für soziale Zwecke und unsere Schulgemeinschaft zu sammeln. \nsiehe auch: https://www.saechsische-jugendstiftung.de/aktionstag
URL:https://www.os-elstra.de/veranstaltung/genial-sozial/
CATEGORIES:Schülerveranstaltungen
END:VEVENT
END:VCALENDAR