BEGIN:VCALENDAR
VERSION:2.0
PRODID:-//Oberschule Elstra - ECPv6.15.20//NONSGML v1.0//EN
CALSCALE:GREGORIAN
METHOD:PUBLISH
X-ORIGINAL-URL:https://www.os-elstra.de
X-WR-CALDESC:Veranstaltungen für Oberschule Elstra
REFRESH-INTERVAL;VALUE=DURATION:PT1H
X-Robots-Tag:noindex
X-PUBLISHED-TTL:PT1H
BEGIN:VTIMEZONE
TZID:Europe/Berlin
BEGIN:DAYLIGHT
TZOFFSETFROM:+0100
TZOFFSETTO:+0200
TZNAME:CEST
DTSTART:20240331T010000
END:DAYLIGHT
BEGIN:STANDARD
TZOFFSETFROM:+0200
TZOFFSETTO:+0100
TZNAME:CET
DTSTART:20241027T010000
END:STANDARD
BEGIN:DAYLIGHT
TZOFFSETFROM:+0100
TZOFFSETTO:+0200
TZNAME:CEST
DTSTART:20250330T010000
END:DAYLIGHT
BEGIN:STANDARD
TZOFFSETFROM:+0200
TZOFFSETTO:+0100
TZNAME:CET
DTSTART:20251026T010000
END:STANDARD
BEGIN:DAYLIGHT
TZOFFSETFROM:+0100
TZOFFSETTO:+0200
TZNAME:CEST
DTSTART:20260329T010000
END:DAYLIGHT
BEGIN:STANDARD
TZOFFSETFROM:+0200
TZOFFSETTO:+0100
TZNAME:CET
DTSTART:20261025T010000
END:STANDARD
END:VTIMEZONE
BEGIN:VEVENT
DTSTART;VALUE=DATE:20250407
DTEND;VALUE=DATE:20250412
DTSTAMP:20260425T122446
CREATED:20250114T193206Z
LAST-MODIFIED:20250114T193206Z
UID:7157-1743984000-1744415999@www.os-elstra.de
SUMMARY:Wanderwoche
DESCRIPTION:Die Klassen unternehmen vom 07.04. bis 11.04. Unternehmungen in der Umgebung oder gehen auf Klassenfahrt.
URL:https://www.os-elstra.de/veranstaltung/wanderwoche-2/
CATEGORIES:Schülerveranstaltungen
END:VEVENT
BEGIN:VEVENT
DTSTART;VALUE=DATE:20250417
DTEND;VALUE=DATE:20250418
DTSTAMP:20260425T122446
CREATED:20250114T193251Z
LAST-MODIFIED:20250323T211736Z
UID:7159-1744848000-1744934399@www.os-elstra.de
SUMMARY:Schriftliche Prüfung im Fach Englisch
DESCRIPTION:
URL:https://www.os-elstra.de/veranstaltung/schriftliche-pruefung-im-fach-englisch/
CATEGORIES:Schulabschlussveranstaltungen
END:VEVENT
BEGIN:VEVENT
DTSTART;VALUE=DATE:20250430
DTEND;VALUE=DATE:20250501
DTSTAMP:20260425T122446
CREATED:20250114T193333Z
LAST-MODIFIED:20250323T211710Z
UID:7161-1745971200-1746057599@www.os-elstra.de
SUMMARY:Schriftliche Prüfung im Fach Deutsch
DESCRIPTION:
URL:https://www.os-elstra.de/veranstaltung/schriftliche-pruefung-im-fach-deutsch/
CATEGORIES:Schülerveranstaltungen
END:VEVENT
END:VCALENDAR