BEGIN:VCALENDAR
VERSION:2.0
PRODID:-//Oberschule Elstra - ECPv6.15.20//NONSGML v1.0//EN
CALSCALE:GREGORIAN
METHOD:PUBLISH
X-ORIGINAL-URL:https://www.os-elstra.de
X-WR-CALDESC:Veranstaltungen für Oberschule Elstra
REFRESH-INTERVAL;VALUE=DURATION:PT1H
X-Robots-Tag:noindex
X-PUBLISHED-TTL:PT1H
BEGIN:VTIMEZONE
TZID:Europe/Berlin
BEGIN:DAYLIGHT
TZOFFSETFROM:+0100
TZOFFSETTO:+0200
TZNAME:CEST
DTSTART:20240331T010000
END:DAYLIGHT
BEGIN:STANDARD
TZOFFSETFROM:+0200
TZOFFSETTO:+0100
TZNAME:CET
DTSTART:20241027T010000
END:STANDARD
BEGIN:DAYLIGHT
TZOFFSETFROM:+0100
TZOFFSETTO:+0200
TZNAME:CEST
DTSTART:20250330T010000
END:DAYLIGHT
BEGIN:STANDARD
TZOFFSETFROM:+0200
TZOFFSETTO:+0100
TZNAME:CET
DTSTART:20251026T010000
END:STANDARD
BEGIN:DAYLIGHT
TZOFFSETFROM:+0100
TZOFFSETTO:+0200
TZNAME:CEST
DTSTART:20260329T010000
END:DAYLIGHT
BEGIN:STANDARD
TZOFFSETFROM:+0200
TZOFFSETTO:+0100
TZNAME:CET
DTSTART:20261025T010000
END:STANDARD
END:VTIMEZONE
BEGIN:VEVENT
DTSTART;VALUE=DATE:20250303
DTEND;VALUE=DATE:20250308
DTSTAMP:20260424T010911
CREATED:20250114T192729Z
LAST-MODIFIED:20250114T192729Z
UID:7153-1740960000-1741391999@www.os-elstra.de
SUMMARY:Projekttage "Handwerkszeug fürs Leben"
DESCRIPTION:In der Woche vom 3.03. bis 7.03. finden unsere Projekttage „Handwerkszeug fürs Leben“ statt\, in denen sich die Schülerinnen und Schüler mit vielen Themen noch alltagsnäher auseinander setzen.
URL:https://www.os-elstra.de/veranstaltung/projekttage-handwerkszeug-fuers-leben-2/
CATEGORIES:Schülerveranstaltungen
END:VEVENT
BEGIN:VEVENT
DTSTART;TZID=Europe/Berlin:20250312T160000
DTEND;TZID=Europe/Berlin:20250312T190000
DTSTAMP:20260424T010911
CREATED:20250114T193024Z
LAST-MODIFIED:20250114T193024Z
UID:7155-1741795200-1741806000@www.os-elstra.de
SUMMARY:Fachlehrersprechtag
DESCRIPTION:An dem Tag stehen die Fachlehrer für Einzelgespräche zur Verfügung. Sie können Termine wie gewohnt über den LernSaxzugang Ihres Kindes buchen.
URL:https://www.os-elstra.de/veranstaltung/fachlehrersprechtag/
CATEGORIES:Schülerveranstaltungen
END:VEVENT
BEGIN:VEVENT
DTSTART;VALUE=DATE:20250323
DTEND;VALUE=DATE:20250330
DTSTAMP:20260424T010911
CREATED:20250305T143640Z
LAST-MODIFIED:20250305T143758Z
UID:7195-1742688000-1743292799@www.os-elstra.de
SUMMARY:Englandfahrt der Klassen 9
DESCRIPTION:
URL:https://www.os-elstra.de/veranstaltung/englandfahrt/
CATEGORIES:Schülerveranstaltungen
END:VEVENT
END:VCALENDAR