BEGIN:VCALENDAR
VERSION:2.0
PRODID:-//Oberschule Elstra - ECPv6.15.20//NONSGML v1.0//EN
CALSCALE:GREGORIAN
METHOD:PUBLISH
X-WR-CALNAME:Oberschule Elstra
X-ORIGINAL-URL:https://www.os-elstra.de
X-WR-CALDESC:Veranstaltungen für Oberschule Elstra
REFRESH-INTERVAL;VALUE=DURATION:PT1H
X-Robots-Tag:noindex
X-PUBLISHED-TTL:PT1H
BEGIN:VTIMEZONE
TZID:Europe/Berlin
BEGIN:DAYLIGHT
TZOFFSETFROM:+0100
TZOFFSETTO:+0200
TZNAME:CEST
DTSTART:20230326T010000
END:DAYLIGHT
BEGIN:STANDARD
TZOFFSETFROM:+0200
TZOFFSETTO:+0100
TZNAME:CET
DTSTART:20231029T010000
END:STANDARD
BEGIN:DAYLIGHT
TZOFFSETFROM:+0100
TZOFFSETTO:+0200
TZNAME:CEST
DTSTART:20240331T010000
END:DAYLIGHT
BEGIN:STANDARD
TZOFFSETFROM:+0200
TZOFFSETTO:+0100
TZNAME:CET
DTSTART:20241027T010000
END:STANDARD
BEGIN:DAYLIGHT
TZOFFSETFROM:+0100
TZOFFSETTO:+0200
TZNAME:CEST
DTSTART:20250330T010000
END:DAYLIGHT
BEGIN:STANDARD
TZOFFSETFROM:+0200
TZOFFSETTO:+0100
TZNAME:CET
DTSTART:20251026T010000
END:STANDARD
END:VTIMEZONE
BEGIN:VEVENT
DTSTART;TZID=Europe/Berlin:20241212T180000
DTEND;TZID=Europe/Berlin:20241212T200000
DTSTAMP:20260423T191443
CREATED:20241101T132235Z
LAST-MODIFIED:20241101T132806Z
UID:7008-1734026400-1734033600@www.os-elstra.de
SUMMARY:Offenes Kalendertürchen 12.12.
DESCRIPTION:Auch in diesem Jahr öffnen wir an unserer Oberschule in Elstra wieder ein Kalendertürchens – dieses Mal wird es das zwölfte sein.
URL:https://www.os-elstra.de/veranstaltung/offenes-kalendertuerchen-12-12/
CATEGORIES:Schülerveranstaltungen
END:VEVENT
END:VCALENDAR