BEGIN:VCALENDAR
VERSION:2.0
PRODID:-//Oberschule Elstra - ECPv6.15.20//NONSGML v1.0//EN
CALSCALE:GREGORIAN
METHOD:PUBLISH
X-ORIGINAL-URL:https://www.os-elstra.de
X-WR-CALDESC:Veranstaltungen für Oberschule Elstra
REFRESH-INTERVAL;VALUE=DURATION:PT1H
X-Robots-Tag:noindex
X-PUBLISHED-TTL:PT1H
BEGIN:VTIMEZONE
TZID:Europe/Berlin
BEGIN:DAYLIGHT
TZOFFSETFROM:+0100
TZOFFSETTO:+0200
TZNAME:CEST
DTSTART:20250330T010000
END:DAYLIGHT
BEGIN:STANDARD
TZOFFSETFROM:+0200
TZOFFSETTO:+0100
TZNAME:CET
DTSTART:20251026T010000
END:STANDARD
BEGIN:DAYLIGHT
TZOFFSETFROM:+0100
TZOFFSETTO:+0200
TZNAME:CEST
DTSTART:20260329T010000
END:DAYLIGHT
BEGIN:STANDARD
TZOFFSETFROM:+0200
TZOFFSETTO:+0100
TZNAME:CET
DTSTART:20261025T010000
END:STANDARD
BEGIN:DAYLIGHT
TZOFFSETFROM:+0100
TZOFFSETTO:+0200
TZNAME:CEST
DTSTART:20270328T010000
END:DAYLIGHT
BEGIN:STANDARD
TZOFFSETFROM:+0200
TZOFFSETTO:+0100
TZNAME:CET
DTSTART:20271031T010000
END:STANDARD
END:VTIMEZONE
BEGIN:VEVENT
DTSTART;VALUE=DATE:20260420
DTEND;VALUE=DATE:20260425
DTSTAMP:20260421T180403
CREATED:20260101T205304Z
LAST-MODIFIED:20260101T205304Z
UID:8135-1776643200-1777075199@www.os-elstra.de
SUMMARY:Wanderwoche/ Englandfahrt
DESCRIPTION:
URL:https://www.os-elstra.de/veranstaltung/wanderwoche-englandfahrt/
CATEGORIES:Schülerveranstaltungen
END:VEVENT
BEGIN:VEVENT
DTSTART;VALUE=DATE:20260504
DTEND;VALUE=DATE:20260505
DTSTAMP:20260421T180403
CREATED:20260101T205541Z
LAST-MODIFIED:20260101T205717Z
UID:8137-1777852800-1777939199@www.os-elstra.de
SUMMARY:Englischprüfung
DESCRIPTION:Weitere Informationen siehe Schulmanager bzw. Lernsax.
URL:https://www.os-elstra.de/veranstaltung/englischpruefung/
CATEGORIES:Schülerveranstaltungen
END:VEVENT
BEGIN:VEVENT
DTSTART;VALUE=DATE:20260506
DTEND;VALUE=DATE:20260507
DTSTAMP:20260421T180403
CREATED:20260101T205757Z
LAST-MODIFIED:20260101T205858Z
UID:8141-1778025600-1778111999@www.os-elstra.de
SUMMARY:Deutschprüfung
DESCRIPTION:Weitere Informationen siehe Schulmanager bzw. Lernsax.
URL:https://www.os-elstra.de/veranstaltung/deutschpruefung/
CATEGORIES:Schülerveranstaltungen
END:VEVENT
BEGIN:VEVENT
DTSTART;VALUE=DATE:20260508
DTEND;VALUE=DATE:20260509
DTSTAMP:20260421T180403
CREATED:20260101T205837Z
LAST-MODIFIED:20260101T205837Z
UID:8143-1778198400-1778284799@www.os-elstra.de
SUMMARY:Mathematikprüfung
DESCRIPTION:Weitere Informationen siehe Schulmanager bzw. Lernsax.
URL:https://www.os-elstra.de/veranstaltung/mathematikpruefung/
CATEGORIES:Schülerveranstaltungen
END:VEVENT
BEGIN:VEVENT
DTSTART;VALUE=DATE:20260512
DTEND;VALUE=DATE:20260513
DTSTAMP:20260421T180403
CREATED:20260101T210020Z
LAST-MODIFIED:20260101T210020Z
UID:8145-1778544000-1778630399@www.os-elstra.de
SUMMARY:Biologieprüfung
DESCRIPTION:Weitere Informationen siehe Schulmanager bzw. Lernsax.
URL:https://www.os-elstra.de/veranstaltung/biologiepruefung/
END:VEVENT
BEGIN:VEVENT
DTSTART;VALUE=DATE:20260513
DTEND;VALUE=DATE:20260514
DTSTAMP:20260421T180403
CREATED:20260101T210123Z
LAST-MODIFIED:20260101T210123Z
UID:8147-1778630400-1778716799@www.os-elstra.de
SUMMARY:Chemie- und Physikprüfung
DESCRIPTION:
URL:https://www.os-elstra.de/veranstaltung/chemie-und-physikpruefung/
CATEGORIES:Schülerveranstaltungen
END:VEVENT
BEGIN:VEVENT
DTSTART;VALUE=DATE:20260514
DTEND;VALUE=DATE:20260516
DTSTAMP:20260421T180403
CREATED:20260101T210305Z
LAST-MODIFIED:20260101T210305Z
UID:8149-1778716800-1778889599@www.os-elstra.de
SUMMARY:Christi Himmelfahrt und unterrichtsfreier Tag
DESCRIPTION:
URL:https://www.os-elstra.de/veranstaltung/christi-himmelfahrt-und-unterrichtsfreier-tag/
CATEGORIES:Schülerveranstaltungen
END:VEVENT
BEGIN:VEVENT
DTSTART;VALUE=DATE:20260518
DTEND;VALUE=DATE:20260604
DTSTAMP:20260421T180403
CREATED:20260101T210532Z
LAST-MODIFIED:20260101T210712Z
UID:8151-1779062400-1780531199@www.os-elstra.de
SUMMARY:Konsultationen zu den mündlichen Prüfungen
DESCRIPTION:Im Zeitraum 18.05. bis 3.06. finden die Konsultationen zu den mündlichen Prüfungen statt. Die genauen Konsultationstermine werden über Lernsax kommuniziert.
URL:https://www.os-elstra.de/veranstaltung/konsultationen-zu-den-muendlichen-pruefungen/
CATEGORIES:Schülerveranstaltungen
END:VEVENT
BEGIN:VEVENT
DTSTART;TZID=Europe/Berlin:20260518T080000
DTEND;TZID=Europe/Berlin:20260518T170000
DTSTAMP:20260421T180403
CREATED:20260101T210954Z
LAST-MODIFIED:20260101T210954Z
UID:8153-1779091200-1779123600@www.os-elstra.de
SUMMARY:Bekanntgabe der Leistung schriftliche Englischprüfung und des Organisationsplanes zur mündlichen Englischprüfung
DESCRIPTION:Genaueres erfahrt ihr über Lernsax.
URL:https://www.os-elstra.de/veranstaltung/bekanntgabe-der-leistung-schriftliche-englischpruefung-und-des-organisationsplanes-zur-muendlichen-englischpruefung/
END:VEVENT
BEGIN:VEVENT
DTSTART;VALUE=DATE:20260526
DTEND;VALUE=DATE:20260530
DTSTAMP:20260421T180403
CREATED:20260101T213926Z
LAST-MODIFIED:20260101T214143Z
UID:8182-1779753600-1780099199@www.os-elstra.de
SUMMARY:Mündliche Prüfungen im Fach Englisch
DESCRIPTION:Die genauen Prüfungstermine der einzelnen Schülerinnen und Schüler werden über Lernsax kommuniziert.
URL:https://www.os-elstra.de/veranstaltung/muendliche-pruefungen-im-fach-englisch/
CATEGORIES:Schülerveranstaltungen
END:VEVENT
BEGIN:VEVENT
DTSTART;VALUE=DATE:20260601
DTEND;VALUE=DATE:20260602
DTSTAMP:20260421T180403
CREATED:20260101T211209Z
LAST-MODIFIED:20260101T211227Z
UID:8155-1780272000-1780358399@www.os-elstra.de
SUMMARY:Bekanntgabe der Ergebnisse der schriftlichen Prüfungen.
DESCRIPTION:Am 01.06. erhaltet ihr die Ergebnisse eurer schriftlichen Prüfungen in Deutsch\, Englisch\, Mathematik und in der gewählten Naturwissenschaft. Weitere Infos erhaltet ihr über Lernsax.
URL:https://www.os-elstra.de/veranstaltung/bekanntgabe-der-ergebnisse-der-schriftlichen-pruefungen/
CATEGORIES:Schülerveranstaltungen
END:VEVENT
BEGIN:VEVENT
DTSTART;VALUE=DATE:20260603
DTEND;VALUE=DATE:20260604
DTSTAMP:20260421T180403
CREATED:20260101T211340Z
LAST-MODIFIED:20260101T211612Z
UID:8158-1780444800-1780531199@www.os-elstra.de
SUMMARY:Bekanntgabe der Termine für die mündlichen Prüfungen
DESCRIPTION:Die entsprechenden Informationen erhaltet ihr über Lernsax.
URL:https://www.os-elstra.de/veranstaltung/bekanntgabe-der-termine-fuer-die-muendlichen-pruefungen/
CATEGORIES:Schülerveranstaltungen
END:VEVENT
BEGIN:VEVENT
DTSTART;VALUE=DATE:20260604
DTEND;VALUE=DATE:20260620
DTSTAMP:20260421T180403
CREATED:20260101T214036Z
LAST-MODIFIED:20260101T214219Z
UID:8184-1780531200-1781913599@www.os-elstra.de
SUMMARY:Mündliche Prüfungen in den selbstgewählten Fächern
DESCRIPTION:Die genauen Prüfungstermine der einzelnen Schülerinnen und Schüler werden über Lernsax kommuniziert.
URL:https://www.os-elstra.de/veranstaltung/muendliche-pruefungen-in-den-selbstgewaehlten-faechern/
CATEGORIES:Schülerveranstaltungen
END:VEVENT
BEGIN:VEVENT
DTSTART;VALUE=DATE:20260615
DTEND;VALUE=DATE:20260620
DTSTAMP:20260421T180403
CREATED:20260101T211435Z
LAST-MODIFIED:20260101T211506Z
UID:8160-1781481600-1781913599@www.os-elstra.de
SUMMARY:Betriebspraktikum der Klassen 8
DESCRIPTION:
URL:https://www.os-elstra.de/veranstaltung/betriebspraktikum-klasse-8/
CATEGORIES:Schülerveranstaltungen
END:VEVENT
BEGIN:VEVENT
DTSTART;VALUE=DATE:20260622
DTEND;VALUE=DATE:20260627
DTSTAMP:20260421T180403
CREATED:20260101T211549Z
LAST-MODIFIED:20260101T211549Z
UID:8163-1782086400-1782518399@www.os-elstra.de
SUMMARY:Schwimmlager der Klassen 5
DESCRIPTION:
URL:https://www.os-elstra.de/veranstaltung/schwimmlager-der-klassen-5-2/
CATEGORIES:Schülerveranstaltungen
END:VEVENT
BEGIN:VEVENT
DTSTART;TZID=Europe/Berlin:20260626T160000
DTEND;TZID=Europe/Berlin:20260626T190000
DTSTAMP:20260421T180403
CREATED:20260101T213730Z
LAST-MODIFIED:20260101T213759Z
UID:8180-1782489600-1782500400@www.os-elstra.de
SUMMARY:Schulentlassungsfeier
DESCRIPTION:Feierlich und auch ein wenig wehmütig verabschieden wir heute die Schulabgänger des Schuljahres 25/26.
URL:https://www.os-elstra.de/veranstaltung/schulentlassungsfeier/
CATEGORIES:Schülerveranstaltungen
END:VEVENT
BEGIN:VEVENT
DTSTART;VALUE=DATE:20260629
DTEND;VALUE=DATE:20260701
DTSTAMP:20260421T180403
CREATED:20260101T211643Z
LAST-MODIFIED:20260101T213226Z
UID:8166-1782691200-1782863999@www.os-elstra.de
SUMMARY:Schwimmlager der Klassen 6
DESCRIPTION:
URL:https://www.os-elstra.de/veranstaltung/schwimmlager-der-klassen-6/
CATEGORIES:Schülerveranstaltungen
END:VEVENT
BEGIN:VEVENT
DTSTART;VALUE=DATE:20260630
DTEND;VALUE=DATE:20260701
DTSTAMP:20260421T180403
CREATED:20260101T211951Z
LAST-MODIFIED:20260101T212018Z
UID:8168-1782777600-1782863999@www.os-elstra.de
SUMMARY:"genial sozial"
DESCRIPTION:Auch in diesem Jahr beteiligen wir uns an Genial Sozial und bieten damit den Schülerinnen und Schülern eine weitere Möglichkeit\, in ein potentielles Berufsfeld zu schnuppern und dabei Geld für soziale Zwecke und unsere Schulgemeinschaft zu sammeln. \nsiehe auch: https://www.saechsische-jugendstiftung.de/aktionstag
URL:https://www.os-elstra.de/veranstaltung/genial-sozial/
CATEGORIES:Schülerveranstaltungen
END:VEVENT
BEGIN:VEVENT
DTSTART;VALUE=DATE:20260701
DTEND;VALUE=DATE:20260702
DTSTAMP:20260421T180403
CREATED:20260101T212132Z
LAST-MODIFIED:20260101T212132Z
UID:8170-1782864000-1782950399@www.os-elstra.de
SUMMARY:Nachhaltigkeitstag
DESCRIPTION:Die Klassen bearbeiten Projekte rund um das Thema Nachhaltigkeit.
URL:https://www.os-elstra.de/veranstaltung/nachhaltigkeitstag/
CATEGORIES:Schülerveranstaltungen
END:VEVENT
BEGIN:VEVENT
DTSTART;TZID=Europe/Berlin:20260702T080000
DTEND;TZID=Europe/Berlin:20260702T120000
DTSTAMP:20260421T180403
CREATED:20260101T212455Z
LAST-MODIFIED:20260101T212455Z
UID:8172-1782979200-1782993600@www.os-elstra.de
SUMMARY:Badfest
DESCRIPTION:Auch in diesem Jahr werden wir uns am letzten Donnerstag im Schuljahr im Freibad Burkau ab 8:00 Uhr treffen\, um gemeinsam einen spannenden Tag zu erleben. Die Klassen werden in sportlichen und witzigen Wettkämpfen wieder gegeneinander antreten.
URL:https://www.os-elstra.de/veranstaltung/badfest/
CATEGORIES:Schülerveranstaltungen
END:VEVENT
BEGIN:VEVENT
DTSTART;TZID=Europe/Berlin:20260703T095000
DTEND;TZID=Europe/Berlin:20260703T112000
DTSTAMP:20260421T180403
CREATED:20260101T212706Z
LAST-MODIFIED:20260101T212731Z
UID:8174-1783072200-1783077600@www.os-elstra.de
SUMMARY:Schulervollversammlung und Zeugnisausgabe
DESCRIPTION:Im 2. Block findet die letzte Schülervollversammlung des Schuljahres 25/26 statt. Nach der anschließenden Ausgabe der Zeugnisse beginnen dann die ersehnten Sommerferien.
URL:https://www.os-elstra.de/veranstaltung/schulervollversammlung-und-zeugnisausgabe/
CATEGORIES:Schülerveranstaltungen
END:VEVENT
BEGIN:VEVENT
DTSTART;VALUE=DATE:20260706
DTEND;VALUE=DATE:20260815
DTSTAMP:20260421T180403
CREATED:20260101T212834Z
LAST-MODIFIED:20260101T212834Z
UID:8176-1783296000-1786751999@www.os-elstra.de
SUMMARY:Sommerferien
DESCRIPTION:
URL:https://www.os-elstra.de/veranstaltung/sommerferien/
CATEGORIES:Ferien
END:VEVENT
BEGIN:VEVENT
DTSTART;TZID=Europe/Berlin:20260817T080000
DTEND;TZID=Europe/Berlin:20260817T132000
DTSTAMP:20260421T180403
CREATED:20260101T213045Z
LAST-MODIFIED:20260101T213045Z
UID:8178-1786953600-1786972800@www.os-elstra.de
SUMMARY:Erster Schultag im Schuljahr 2026/27
DESCRIPTION:Wir heißen unsere neuen Schülerinnen und Schüler der Klassen 5 und die Schülerinnen und Schüler der Klassen 6 bis 10 wieder willkommen.
URL:https://www.os-elstra.de/veranstaltung/erster-schultag-im-schuljahr-2026-27/
CATEGORIES:Schülerveranstaltungen
END:VEVENT
END:VCALENDAR