BEGIN:VCALENDAR
VERSION:2.0
PRODID:-//Oberschule Elstra - ECPv6.15.20//NONSGML v1.0//EN
CALSCALE:GREGORIAN
METHOD:PUBLISH
X-WR-CALNAME:Oberschule Elstra
X-ORIGINAL-URL:https://www.os-elstra.de
X-WR-CALDESC:Veranstaltungen für Oberschule Elstra
REFRESH-INTERVAL;VALUE=DURATION:PT1H
X-Robots-Tag:noindex
X-PUBLISHED-TTL:PT1H
BEGIN:VTIMEZONE
TZID:Europe/Berlin
BEGIN:DAYLIGHT
TZOFFSETFROM:+0100
TZOFFSETTO:+0200
TZNAME:CEST
DTSTART:20250330T010000
END:DAYLIGHT
BEGIN:STANDARD
TZOFFSETFROM:+0200
TZOFFSETTO:+0100
TZNAME:CET
DTSTART:20251026T010000
END:STANDARD
BEGIN:DAYLIGHT
TZOFFSETFROM:+0100
TZOFFSETTO:+0200
TZNAME:CEST
DTSTART:20260329T010000
END:DAYLIGHT
BEGIN:STANDARD
TZOFFSETFROM:+0200
TZOFFSETTO:+0100
TZNAME:CET
DTSTART:20261025T010000
END:STANDARD
BEGIN:DAYLIGHT
TZOFFSETFROM:+0100
TZOFFSETTO:+0200
TZNAME:CEST
DTSTART:20270328T010000
END:DAYLIGHT
BEGIN:STANDARD
TZOFFSETFROM:+0200
TZOFFSETTO:+0100
TZNAME:CET
DTSTART:20271031T010000
END:STANDARD
END:VTIMEZONE
BEGIN:VEVENT
DTSTART;TZID=Europe/Berlin:20260703T095000
DTEND;TZID=Europe/Berlin:20260703T112000
DTSTAMP:20260423T115459
CREATED:20260101T212706Z
LAST-MODIFIED:20260101T212731Z
UID:8174-1783072200-1783077600@www.os-elstra.de
SUMMARY:Schulervollversammlung und Zeugnisausgabe
DESCRIPTION:Im 2. Block findet die letzte Schülervollversammlung des Schuljahres 25/26 statt. Nach der anschließenden Ausgabe der Zeugnisse beginnen dann die ersehnten Sommerferien.
URL:https://www.os-elstra.de/veranstaltung/schulervollversammlung-und-zeugnisausgabe/
CATEGORIES:Schülerveranstaltungen
END:VEVENT
END:VCALENDAR